BEGIN:VCALENDAR
VERSION:2.0
PRODID:-//pousseenchoeur - École alternative de la petite montagne - ECPv6.15.20//NONSGML v1.0//EN
CALSCALE:GREGORIAN
METHOD:PUBLISH
X-WR-CALNAME:pousseenchoeur - École alternative de la petite montagne
X-ORIGINAL-URL:https://pousseenchoeur.fr
X-WR-CALDESC:Évènements pour pousseenchoeur - École alternative de la petite montagne
REFRESH-INTERVAL;VALUE=DURATION:PT1H
X-Robots-Tag:noindex
X-PUBLISHED-TTL:PT1H
BEGIN:VTIMEZONE
TZID:Europe/Paris
BEGIN:DAYLIGHT
TZOFFSETFROM:+0100
TZOFFSETTO:+0200
TZNAME:CEST
DTSTART:20220327T010000
END:DAYLIGHT
BEGIN:STANDARD
TZOFFSETFROM:+0200
TZOFFSETTO:+0100
TZNAME:CET
DTSTART:20221030T010000
END:STANDARD
BEGIN:DAYLIGHT
TZOFFSETFROM:+0100
TZOFFSETTO:+0200
TZNAME:CEST
DTSTART:20230326T010000
END:DAYLIGHT
BEGIN:STANDARD
TZOFFSETFROM:+0200
TZOFFSETTO:+0100
TZNAME:CET
DTSTART:20231029T010000
END:STANDARD
BEGIN:DAYLIGHT
TZOFFSETFROM:+0100
TZOFFSETTO:+0200
TZNAME:CEST
DTSTART:20240331T010000
END:DAYLIGHT
BEGIN:STANDARD
TZOFFSETFROM:+0200
TZOFFSETTO:+0100
TZNAME:CET
DTSTART:20241027T010000
END:STANDARD
BEGIN:DAYLIGHT
TZOFFSETFROM:+0100
TZOFFSETTO:+0200
TZNAME:CEST
DTSTART:20250330T010000
END:DAYLIGHT
BEGIN:STANDARD
TZOFFSETFROM:+0200
TZOFFSETTO:+0100
TZNAME:CET
DTSTART:20251026T010000
END:STANDARD
BEGIN:DAYLIGHT
TZOFFSETFROM:+0100
TZOFFSETTO:+0200
TZNAME:CEST
DTSTART:20260329T010000
END:DAYLIGHT
BEGIN:STANDARD
TZOFFSETFROM:+0200
TZOFFSETTO:+0100
TZNAME:CET
DTSTART:20261025T010000
END:STANDARD
BEGIN:DAYLIGHT
TZOFFSETFROM:+0100
TZOFFSETTO:+0200
TZNAME:CEST
DTSTART:20270328T010000
END:DAYLIGHT
BEGIN:STANDARD
TZOFFSETFROM:+0200
TZOFFSETTO:+0100
TZNAME:CET
DTSTART:20271031T010000
END:STANDARD
END:VTIMEZONE
BEGIN:VEVENT
DTSTART;TZID=Europe/Paris:20260329T100000
DTEND;TZID=Europe/Paris:20260329T120000
DTSTAMP:20260426T003119
CREATED:20260308T210908Z
LAST-MODIFIED:20260308T210912Z
UID:1358-1774778400-1774785600@pousseenchoeur.fr
SUMMARY:Réunion Projet Collège
DESCRIPTION:Une deuxième réunion pour co-construire le projet collège. Cette rencontre est ouverte à tous parents\, enseignant·e ou professeur intéressé! Pour participer\, merci de vous inscrire en amont en nous contactant par mail à ecolealternativepetitemontagne@gmail.com
URL:https://pousseenchoeur.fr/index.php/event/reunion-projet-college/
END:VEVENT
BEGIN:VEVENT
DTSTART;TZID=Europe/Paris:20260321T100000
DTEND;TZID=Europe/Paris:20260321T170000
DTSTAMP:20260426T003119
CREATED:20251016T094654Z
LAST-MODIFIED:20251016T094657Z
UID:1262-1774087200-1774112400@pousseenchoeur.fr
SUMMARY:Fête du printemps
DESCRIPTION:
URL:https://pousseenchoeur.fr/index.php/event/fete-du-printemps-3/
END:VEVENT
BEGIN:VEVENT
DTSTART;TZID=Europe/Paris:20251212T160000
DTEND;TZID=Europe/Paris:20251212T180000
DTSTAMP:20260426T003119
CREATED:20251016T094507Z
LAST-MODIFIED:20251016T094511Z
UID:1257-1765555200-1765562400@pousseenchoeur.fr
SUMMARY:Fête de l'hiver
DESCRIPTION:
URL:https://pousseenchoeur.fr/index.php/event/fete-de-lhiver-3/
END:VEVENT
BEGIN:VEVENT
DTSTART;TZID=Europe/Paris:20251209T173000
DTEND;TZID=Europe/Paris:20260321T203000
DTSTAMP:20260426T003119
CREATED:20251205T142312Z
LAST-MODIFIED:20251205T142317Z
UID:1329-1765301400-1774125000@pousseenchoeur.fr
SUMMARY:Cycle de formation communication Bienveillante
DESCRIPTION:Formation de 21h avec Christelle Koenig sur des mardis soirs et samedis après-midi\, entre décembre 2025 et mars 2026. Places limitées\, sur réservation uniquement. Pour plus d’informations\, contactez-nous à ecolealternativepetitemontagne@gmail.com  \n\n\n\nAffiche formation communication bienveillante
URL:https://pousseenchoeur.fr/index.php/event/cycle-de-formation-communication-bienveillante/
ATTACH;FMTTYPE=image/png:https://pousseenchoeur.fr/wp-content/uploads/2025/12/Cycle-de-Formation-Communication-Bienveillante1.png
END:VEVENT
BEGIN:VEVENT
DTSTART;TZID=Europe/Paris:20250921T140000
DTEND;TZID=Europe/Paris:20250921T180000
DTSTAMP:20260426T003120
CREATED:20250916T180244Z
LAST-MODIFIED:20250916T180247Z
UID:1183-1758463200-1758477600@pousseenchoeur.fr
SUMMARY:Fête de l'Automne 2025
DESCRIPTION:Pousse en Choeur fête sa deuxième rentrée tout en douceur! Claire et Laurent nous accueillent sur leur ferme Au Chant des Lulus\, buvette et crêpes sur place! \n\n\n\n\n\n\n\nAu programme:  \n\n\n\n\nDès 14h Marie-Christine Jacquot animera un atelier pour filer de la laine\n\n\n\nà 16h spectacle musical et participatif  » Emmène-moi »  La La Laine\, la musicienne acadienne* vous invite dans son jardin\, pour un concert participatif enjoué. » La La Laine parce que la douceur de la laine\, et la la la la la … En suivant le fil de la laine\, tous nos sens s’éveillent. L’ instinct de chant de troupeau se réveille\, il y a de la place pour toustes dans son orchestre\, tout est son !  »   * l’Acadie est une région francophone de l’Est du Canada.\n\n\n\nAvec: Hélène Péronnet\, chant\, bambous\, violon\, brosse à dent\, jeu\, euphonium\n\n\n\nSur réservation\, participation libre (prix conseillé 10€)\n\n\n\nMise en scène:  Pina Blankevoort\n\n\n\n Réservations : 07.82.16.66.54
URL:https://pousseenchoeur.fr/index.php/event/fete-de-lautomne-2025/
LOCATION:Ferme  » Au Chant des Lulus » à Ecuria\, 39160 Nantey
END:VEVENT
BEGIN:VEVENT
DTSTART;TZID=Europe/Paris:20250921T140000
DTEND;TZID=Europe/Paris:20250921T180000
DTSTAMP:20260426T003120
CREATED:20250915T085944Z
LAST-MODIFIED:20250916T124954Z
UID:1161-1758463200-1758477600@pousseenchoeur.fr
SUMMARY:Fête de l'Automne
DESCRIPTION:Pousse en Choeur fête sa deuxième rentrée et vous invite à célébrer l’automne 🍂 tout en poésie au chant des Lulus avec nos amis les brebis dès 14h le 21 septembre ! \n\n\n\n🧶 « Emmène- moi » – concert participatif 🧶🐑 \n\n\n\n Le 21.09 à 16h à la ferme « Au chant des lulus » à Écuria (Nantey) \n\n\n\n 🍀 La La Laine\, la musicienne acadienne vous invite dans son jardin\, pour un concert participatif enjoué.✨ » La La Laine parce que la douceur de la laine\, et la la la la la … En suivant le fil de la laine\, tous nos sens s’éveillent. L’ instinct de chant de troupeau se réveille\,il y a de la place pour toustes dans son orchestre\, tout est son ! «  \n\n\n\nAvec: Hélène Péronnet\, chant\, bambous\, violon\, brosse à dent\, jeu\, euphonium \n\n\n\nMise en scène:  Pina Blankevoort \n\n\n\nSur réservation\, participation libre (prix conseillé 10€)
URL:https://pousseenchoeur.fr/index.php/event/__trashed/
END:VEVENT
BEGIN:VEVENT
DTSTART;TZID=Europe/Paris:20241220T163000
DTEND;TZID=Europe/Paris:20241220T190000
DTSTAMP:20260426T003120
CREATED:20241212T100141Z
LAST-MODIFIED:20241212T100141Z
UID:1094-1734712200-1734721200@pousseenchoeur.fr
SUMMARY:Fête de l'Hiver
DESCRIPTION:L’école Pousse en Chœur vous invite à célébrer le solstice d’hiver de manière chaleureuse et poétique; nous nous baladerons à la lueur de nos lanternes et les enfants nous conterons une histoire de saison et nous chanterons ensemble pour réchauffer la nuit! Nous partagerons ensuite un moment convivial autour d’une bonne soupe\, de vin chaud et jus de pommes chaud\, et vous pourrez trouver des petits cadeaux à vous offrir à vous et vos proches avec notre petit marché de Noël!
URL:https://pousseenchoeur.fr/index.php/event/fete-de-lhiver-2/
END:VEVENT
BEGIN:VEVENT
DTSTART;TZID=Europe/Paris:20241214T093000
DTEND;TZID=Europe/Paris:20241214T123000
DTSTAMP:20260426T003120
CREATED:20241212T095521Z
LAST-MODIFIED:20241212T095521Z
UID:1091-1734168600-1734179400@pousseenchoeur.fr
SUMMARY:Atelier Lanternes
DESCRIPTION:Venez confectionner ces belles lanternes pour éclairer vos fêtes. Vous serez équipé pour vous joindre à la balade aux lanternes\, contée et chantée\, qui aura lieu en soirée du vendredi 20 décembre à l’occasion de la fête de l’hiver! \n\n\n\nAtelier à Prix libre
URL:https://pousseenchoeur.fr/index.php/event/atelier-lanternes/
END:VEVENT
BEGIN:VEVENT
DTSTART;TZID=Europe/Paris:20240525T093000
DTEND;TZID=Europe/Paris:20240526T183000
DTSTAMP:20260426T003120
CREATED:20231010T211113Z
LAST-MODIFIED:20240418T113833Z
UID:849-1716629400-1716748200@pousseenchoeur.fr
SUMMARY:Le Festival Pousse en Douceur
DESCRIPTION:Deux jours de festival pour parler enfance\, parentalité\, bienveillance et éducation!Au programme: – des films suivis d’échanges (sur l’école autrement et le deuil parental)\, – une table-ronde autour des pédagogies actives\, des conférences (accompagner les enfants aux fonctionnements « différents »\, les enjeux de l’adolescence\, l’hypersensibilité)\,  – des spectacles (« Nü » de la Cie Passe-Montagne\, « Les Doudous » de Marionnettes et Comédie et « Contes et Rêveries » de Laure – Magicienne de la Nuit\, et Chloé – Magicienne du Jour)\,– des stands / ateliers / animations\, jeux\, espace détente et autres surprises en continu– Une Badaboom\, danse pour enfants de 0 à 100 ans! \n\n\n\n\nProgramme détaillé
URL:https://pousseenchoeur.fr/index.php/event/le-festival-pousse-en-douceur/
END:VEVENT
BEGIN:VEVENT
DTSTART;TZID=Europe/Paris:20240515T140000
DTEND;TZID=Europe/Paris:20240515T170000
DTSTAMP:20260426T003120
CREATED:20231010T205456Z
LAST-MODIFIED:20231010T205458Z
UID:847-1715781600-1715792400@pousseenchoeur.fr
SUMMARY:Les Mercredis Pousse en Chœur
DESCRIPTION:Programme à venir…
URL:https://pousseenchoeur.fr/index.php/event/les-mercredis-pousse-en-choeur-6/
END:VEVENT
BEGIN:VEVENT
DTSTART;TZID=Europe/Paris:20240410T140000
DTEND;TZID=Europe/Paris:20240410T170000
DTSTAMP:20260426T003120
CREATED:20231010T205338Z
LAST-MODIFIED:20240224T150503Z
UID:845-1712757600-1712768400@pousseenchoeur.fr
SUMMARY:Les Mercredis Pousse en Chœur
DESCRIPTION:Accompagner ses enfants au fil des saisons: cercle de parents et partage d’outils et rituels\, atelier créatif pour les enfants
URL:https://pousseenchoeur.fr/index.php/event/les-mercredis-pousse-en-choeur-5/
END:VEVENT
BEGIN:VEVENT
DTSTART;TZID=Europe/Paris:20240406T080000
DTEND;TZID=Europe/Paris:20240407T170000
DTSTAMP:20260426T003120
CREATED:20240401T180233Z
LAST-MODIFIED:20240401T180235Z
UID:969-1712390400-1712509200@pousseenchoeur.fr
SUMMARY:Chantier Peinture
DESCRIPTION:Pousse en Chœur commence à aménager ses salles de classes\, et pour amener plus de luminosité\, nous organisons un chantier participatif pour repeindre en blanc le plafond\, des murs et encadrements de portes et fenêtres. Plus on est\, mieux on avance\, amenez vos rouleaux\, escabeaux et pinceaux!
URL:https://pousseenchoeur.fr/index.php/event/chantier-peinture/
END:VEVENT
BEGIN:VEVENT
DTSTART;TZID=Europe/Paris:20240323T140000
DTEND;TZID=Europe/Paris:20240323T180000
DTSTAMP:20260426T003120
CREATED:20240224T160938Z
LAST-MODIFIED:20240224T160939Z
UID:942-1711202400-1711216800@pousseenchoeur.fr
SUMMARY:Fête du Printemps
DESCRIPTION:Animations nature: ateliers et jeux \, crêpes et buvette sur place
URL:https://pousseenchoeur.fr/index.php/event/fete-du-printemps-2/
END:VEVENT
BEGIN:VEVENT
DTSTART;TZID=Europe/Paris:20240306T140000
DTEND;TZID=Europe/Paris:20240306T170000
DTSTAMP:20260426T003120
CREATED:20231010T204516Z
LAST-MODIFIED:20240224T150307Z
UID:838-1709733600-1709744400@pousseenchoeur.fr
SUMMARY:Les Mercredis Pousse en Chœur
DESCRIPTION:Sur la trace des animaux\, balade et observation en nature
URL:https://pousseenchoeur.fr/index.php/event/les-mercredis-pousse-en-choeur-4/
END:VEVENT
BEGIN:VEVENT
DTSTART;TZID=Europe/Paris:20240214T140000
DTEND;TZID=Europe/Paris:20240214T170000
DTSTAMP:20260426T003120
CREATED:20231010T204411Z
LAST-MODIFIED:20240224T150138Z
UID:836-1707919200-1707930000@pousseenchoeur.fr
SUMMARY:Les Mercredis Pousse en Chœur
DESCRIPTION:Découverte de la Saison de l’agnelage au Chant des Lulus\, visite intimiste de la ferme et la Bergerie
URL:https://pousseenchoeur.fr/index.php/event/836/
END:VEVENT
BEGIN:VEVENT
DTSTART;TZID=Europe/Paris:20240110T140000
DTEND;TZID=Europe/Paris:20240110T173000
DTSTAMP:20260426T003120
CREATED:20231010T204238Z
LAST-MODIFIED:20231010T204632Z
UID:834-1704895200-1704907800@pousseenchoeur.fr
SUMMARY:Les Mercredis Pousse en Chœur
DESCRIPTION:Tirons les rois et reines! – Atelier cuisine : fabrication de galettes.
URL:https://pousseenchoeur.fr/index.php/event/les-mercredis-pousse-en-choeur-3/
END:VEVENT
BEGIN:VEVENT
DTSTART;TZID=Europe/Paris:20231216T170000
DTEND;TZID=Europe/Paris:20231216T200000
DTSTAMP:20260426T003120
CREATED:20231010T203056Z
LAST-MODIFIED:20231010T203057Z
UID:826-1702746000-1702756800@pousseenchoeur.fr
SUMMARY:Fête de l'hiver
DESCRIPTION:Déambulation aux lanternes et moment convivial autour d’un bol de soupe!
URL:https://pousseenchoeur.fr/index.php/event/fete-de-lhiver/
END:VEVENT
BEGIN:VEVENT
DTSTART;TZID=Europe/Paris:20231209T120000
DTEND;TZID=Europe/Paris:20231210T190000
DTSTAMP:20260426T003120
CREATED:20231116T152848Z
LAST-MODIFIED:20231116T152850Z
UID:911-1702123200-1702234800@pousseenchoeur.fr
SUMMARY:Expo-Vente
DESCRIPTION:Espace calme et intimiste dans laquelle objets d’art se mêlent à une ambiance chaleureuse. Buvette\, petite restauration\, concert et animation tout au long du weekend. Vernissage vendredi 8 décembre à 17h30 sur réservation. Samedi 9 et dimanche 10 de 9h à 19h. Événement organisé par l’association Le Bol d’Air. \n\n\n\nL’association Pousse en Chœur s’occupera de la restauration.
URL:https://pousseenchoeur.fr/index.php/event/expo-vente/
LOCATION:La Transversale\, 9 rue du Lavoir Burigna\, 39240 Aromas
END:VEVENT
BEGIN:VEVENT
DTSTART;TZID=Europe/Paris:20231206T140000
DTEND;TZID=Europe/Paris:20231206T170000
DTSTAMP:20260426T003120
CREATED:20231010T203814Z
LAST-MODIFIED:20231010T204651Z
UID:832-1701871200-1701882000@pousseenchoeur.fr
SUMMARY:Les Mercredis Pousse en Chœur
DESCRIPTION: Des lumières pour l’hiver – Fabrication de lampions.
URL:https://pousseenchoeur.fr/index.php/event/les-mercredis-pousse-en-choeur-2/
END:VEVENT
BEGIN:VEVENT
DTSTART;TZID=Europe/Paris:20231030T100000
DTEND;TZID=Europe/Paris:20231030T120000
DTSTAMP:20260426T003120
CREATED:20231019T214055Z
LAST-MODIFIED:20231019T214056Z
UID:871-1698660000-1698667200@pousseenchoeur.fr
SUMMARY:Rencontre autour de l'allaitement
DESCRIPTION:Rencontre organisée en partenariat avec l’association l’Or Blanc dans le cadre de la Semaine Mondiale de l’Allaitement Maternel\, animée par Sarah Delmer\, référente de l’antenne Jura du réseau de soutien à l’allaitement maternel. \n\n\n\nMaison Anémone\, 6 rue du Centre\, Barézia\, Montfleur
URL:https://pousseenchoeur.fr/index.php/event/rencontre-autour-de-lallaitement/
END:VEVENT
BEGIN:VEVENT
DTSTART;TZID=Europe/Paris:20230923T100000
DTEND;TZID=Europe/Paris:20230923T170000
DTSTAMP:20260426T003120
CREATED:20230912T220500Z
LAST-MODIFIED:20230912T225107Z
UID:170-1695463200-1695488400@pousseenchoeur.fr
SUMMARY:La fête de l'automne
DESCRIPTION:La fête de l’automne
URL:https://pousseenchoeur.fr/index.php/event/la-fete-de-lautomne/
END:VEVENT
END:VCALENDAR