BEGIN:VCALENDAR
VERSION:2.0
PRODID:-//pousseenchoeur - École alternative de la petite montagne - ECPv6.15.20//NONSGML v1.0//EN
CALSCALE:GREGORIAN
METHOD:PUBLISH
X-ORIGINAL-URL:https://pousseenchoeur.fr
X-WR-CALDESC:Évènements pour pousseenchoeur - École alternative de la petite montagne
REFRESH-INTERVAL;VALUE=DURATION:PT1H
X-Robots-Tag:noindex
X-PUBLISHED-TTL:PT1H
BEGIN:VTIMEZONE
TZID:Europe/Paris
BEGIN:DAYLIGHT
TZOFFSETFROM:+0100
TZOFFSETTO:+0200
TZNAME:CEST
DTSTART:20250330T010000
END:DAYLIGHT
BEGIN:STANDARD
TZOFFSETFROM:+0200
TZOFFSETTO:+0100
TZNAME:CET
DTSTART:20251026T010000
END:STANDARD
BEGIN:DAYLIGHT
TZOFFSETFROM:+0100
TZOFFSETTO:+0200
TZNAME:CEST
DTSTART:20260329T010000
END:DAYLIGHT
BEGIN:STANDARD
TZOFFSETFROM:+0200
TZOFFSETTO:+0100
TZNAME:CET
DTSTART:20261025T010000
END:STANDARD
BEGIN:DAYLIGHT
TZOFFSETFROM:+0100
TZOFFSETTO:+0200
TZNAME:CEST
DTSTART:20270328T010000
END:DAYLIGHT
BEGIN:STANDARD
TZOFFSETFROM:+0200
TZOFFSETTO:+0100
TZNAME:CET
DTSTART:20271031T010000
END:STANDARD
END:VTIMEZONE
BEGIN:VEVENT
DTSTART;TZID=Europe/Paris:20260329T100000
DTEND;TZID=Europe/Paris:20260329T120000
DTSTAMP:20260426T033433
CREATED:20260308T210908Z
LAST-MODIFIED:20260308T210912Z
UID:1358-1774778400-1774785600@pousseenchoeur.fr
SUMMARY:Réunion Projet Collège
DESCRIPTION:Une deuxième réunion pour co-construire le projet collège. Cette rencontre est ouverte à tous parents\, enseignant·e ou professeur intéressé! Pour participer\, merci de vous inscrire en amont en nous contactant par mail à ecolealternativepetitemontagne@gmail.com
URL:https://pousseenchoeur.fr/index.php/event/reunion-projet-college/
END:VEVENT
END:VCALENDAR